BEGIN:VCALENDAR
VERSION:2.0
PRODID:-//Tavern Blue - ECPv6.15.20//NONSGML v1.0//EN
CALSCALE:GREGORIAN
METHOD:PUBLISH
X-WR-CALNAME:Tavern Blue
X-ORIGINAL-URL:https://tavernblue.com
X-WR-CALDESC:Events for Tavern Blue
REFRESH-INTERVAL;VALUE=DURATION:PT1H
X-Robots-Tag:noindex
X-PUBLISHED-TTL:PT1H
BEGIN:VTIMEZONE
TZID:America/Chicago
BEGIN:DAYLIGHT
TZOFFSETFROM:-0600
TZOFFSETTO:-0500
TZNAME:CDT
DTSTART:20250309T080000
END:DAYLIGHT
BEGIN:STANDARD
TZOFFSETFROM:-0500
TZOFFSETTO:-0600
TZNAME:CST
DTSTART:20251102T070000
END:STANDARD
BEGIN:DAYLIGHT
TZOFFSETFROM:-0600
TZOFFSETTO:-0500
TZNAME:CDT
DTSTART:20260308T080000
END:DAYLIGHT
BEGIN:STANDARD
TZOFFSETFROM:-0500
TZOFFSETTO:-0600
TZNAME:CST
DTSTART:20261101T070000
END:STANDARD
BEGIN:DAYLIGHT
TZOFFSETFROM:-0600
TZOFFSETTO:-0500
TZNAME:CDT
DTSTART:20270314T080000
END:DAYLIGHT
BEGIN:STANDARD
TZOFFSETFROM:-0500
TZOFFSETTO:-0600
TZNAME:CST
DTSTART:20271107T070000
END:STANDARD
END:VTIMEZONE
BEGIN:VEVENT
DTSTART;TZID=America/Chicago:20260424T180000
DTEND;TZID=America/Chicago:20260424T203000
DTSTAMP:20260420T051927
CREATED:20260406T202432Z
LAST-MODIFIED:20260406T202432Z
UID:10742-1777053600-1777062600@tavernblue.com
SUMMARY:Country Night | Isaac Scott & Band at Tavern Blue
DESCRIPTION:Join us on Friday\, April 24 at 6 PM for a special night of live music with Isaac Scott — performing his first-ever full band show! 🎶 \nCountry singer-songwriter from Iowa\, Isaac brings honest\, heartfelt songs that connect with real life! Now\, for the first time\, experience his music with a full band live on stage. \n🔥 No cover charge\nBring your friends\, grab a drink\, and don’t miss it! \nReserve your table now!
URL:https://tavernblue.com/event/country-night-isaac-scott-band-at-tavern-blue/
LOCATION:Tavern Blue\, 805 2nd Street\, Coralville\, IA\, 52241\, United States
ATTACH;FMTTYPE=image/png:https://tavernblue.com/wp-content/uploads/2026/04/isaac-poster-new.png
END:VEVENT
BEGIN:VEVENT
DTSTART;TZID=America/Chicago:20260425T180000
DTEND;TZID=America/Chicago:20260425T210000
DTSTAMP:20260420T051927
CREATED:20260406T210821Z
LAST-MODIFIED:20260406T210821Z
UID:10746-1777140000-1777150800@tavernblue.com
SUMMARY:Dogs on Skis LIVE at Tavern Blue
DESCRIPTION:Dogs on Skis is BACK at Tavern Blue! 🎶 \nGet ready for a high-energy night of classic rock\, the kind that keeps the crowd going all night. \n✅ Saturday\, April 25 at 6 PM\n🔥 No cover charge\n🍕 Brick oven pizza + ice-cold drinks\n🍹 Full bar & the perfect night out with friends or family \nDon’t miss it! Reserve your table now:\n📞 tavernblue.com or call (319) 569-1136 \n📍 805 2nd Street\, Coralville\, IA
URL:https://tavernblue.com/event/dogs-on-skis-live-at-tavern-blue/
LOCATION:Tavern Blue\, 805 2nd Street\, Coralville\, IA\, 52241\, United States
CATEGORIES:live music
ATTACH;FMTTYPE=image/png:https://tavernblue.com/wp-content/uploads/2026/04/dogs-on-skis-april.png
END:VEVENT
BEGIN:VEVENT
DTSTART;TZID=America/Chicago:20260426T163000
DTEND;TZID=America/Chicago:20260426T183000
DTSTAMP:20260420T051927
CREATED:20260326T214004Z
LAST-MODIFIED:20260326T214004Z
UID:10724-1777221000-1777228200@tavernblue.com
SUMMARY:Movie Night at Tavern Blue | The Croods
DESCRIPTION:Family Fun + Movie Nights 🎬\nJoin us every Sunday at 4:30 PM for cozy movie nights\, comfort food\, and quality time with the whole crew. We’ve handpicked a lineup of favorites! \nMovie Lineup:\n📅 Apr 26 – The Croods\n📅 May 3 – Finding Nemo\n📅 May 10 – Brave \nFun for all ages!\n🎟️ Free event\n🍕 50% off pizza after 4:30 PM \nReserve your table now at tavernblue.com or call (319) 569-1136\n📍 Tavern Blue | 805 2nd Street\, Coralville\, IA
URL:https://tavernblue.com/event/movie-night-at-tavern-blue-the-croods/
LOCATION:Tavern Blue\, 805 2nd Street\, Coralville\, IA\, 52241\, United States
CATEGORIES:Movie
ATTACH;FMTTYPE=image/png:https://tavernblue.com/wp-content/uploads/2026/03/Sunday-movies-apr-26.png
END:VEVENT
BEGIN:VEVENT
DTSTART;TZID=America/Chicago:20260430T180000
DTEND;TZID=America/Chicago:20260430T210000
DTSTAMP:20260420T051927
CREATED:20260409T203743Z
LAST-MODIFIED:20260409T203743Z
UID:10760-1777572000-1777582800@tavernblue.com
SUMMARY:Live Music with Aubrey Yates
DESCRIPTION:Join us on Thursday\, April 30 at 6 PM for a laid-back night of indie folk pop with Aubrey Yates 🎶 \nBlending acoustic guitar\, keyboard\, and uplifting vocals\, Aubrey brings a mix of original songs and popular covers — from artists like Maroon 5\, Imagine Dragons\, and Coldplay. \n🔥 No cover charge! \nExpect feel-good music\, familiar hits you can sing along to\, and a great atmosphere to unwind with friends 🍻 \n👉 Reserve your table now!\ntavernblue.com or call (319) 569-1136 \n📍 805 2nd Street\, Coralville\, IA
URL:https://tavernblue.com/event/live-music-with-aubrey-yates/
LOCATION:Tavern Blue\, 805 2nd Street\, Coralville\, IA\, 52241\, United States
CATEGORIES:live music
ATTACH;FMTTYPE=image/png:https://tavernblue.com/wp-content/uploads/2026/04/Aubrey-Yates.png
END:VEVENT
END:VCALENDAR